BEGIN:VCALENDAR
VERSION:2.0
PRODID:-//Will County Democratic Party - ECPv6.15.20//NONSGML v1.0//EN
CALSCALE:GREGORIAN
METHOD:PUBLISH
X-WR-CALNAME:Will County Democratic Party
X-ORIGINAL-URL:https://willcountydemocrats.com
X-WR-CALDESC:Events for Will County Democratic Party
REFRESH-INTERVAL;VALUE=DURATION:PT1H
X-Robots-Tag:noindex
X-PUBLISHED-TTL:PT1H
BEGIN:VTIMEZONE
TZID:America/Chicago
BEGIN:DAYLIGHT
TZOFFSETFROM:-0600
TZOFFSETTO:-0500
TZNAME:CDT
DTSTART:20250309T080000
END:DAYLIGHT
BEGIN:STANDARD
TZOFFSETFROM:-0500
TZOFFSETTO:-0600
TZNAME:CST
DTSTART:20251102T070000
END:STANDARD
BEGIN:DAYLIGHT
TZOFFSETFROM:-0600
TZOFFSETTO:-0500
TZNAME:CDT
DTSTART:20260308T080000
END:DAYLIGHT
BEGIN:STANDARD
TZOFFSETFROM:-0500
TZOFFSETTO:-0600
TZNAME:CST
DTSTART:20261101T070000
END:STANDARD
BEGIN:DAYLIGHT
TZOFFSETFROM:-0600
TZOFFSETTO:-0500
TZNAME:CDT
DTSTART:20270314T080000
END:DAYLIGHT
BEGIN:STANDARD
TZOFFSETFROM:-0500
TZOFFSETTO:-0600
TZNAME:CST
DTSTART:20271107T070000
END:STANDARD
END:VTIMEZONE
BEGIN:VEVENT
DTSTART;TZID=America/Chicago:20260422T170000
DTEND;TZID=America/Chicago:20260422T190000
DTSTAMP:20260422T011512
CREATED:20260227T231907Z
LAST-MODIFIED:20260227T232130Z
UID:4429-1776877200-1776884400@willcountydemocrats.com
SUMMARY:Will County Executive Jennifer Bertino-Tarrant Annual Spring Event
DESCRIPTION:Tickets and Sponsorships HERE
URL:https://willcountydemocrats.com/event/will-county-executive-jennifer-bertino-tarrant-annual-spring-event/
LOCATION:Cemeno’s\, 1630 Essington Road\, Joliet\, IL\, United States
ATTACH;FMTTYPE=image/jpeg:https://willcountydemocrats.com/wp-content/uploads/2026/02/JBT-Annual-Spring-Event-4-22-26-w-Bug-scaled.jpg
END:VEVENT
BEGIN:VEVENT
DTSTART;TZID=America/Chicago:20260422T183000
DTEND;TZID=America/Chicago:20260422T200000
DTSTAMP:20260422T011512
CREATED:20260321T114741Z
LAST-MODIFIED:20260324T170850Z
UID:4463-1776882600-1776888000@willcountydemocrats.com
SUMMARY:Crete Township Democrats General Meeting
DESCRIPTION:
URL:https://willcountydemocrats.com/event/crete-township-democrats-general-meeting/
LOCATION:Vintage Oak\, 1392 Main Street\, Crete\, IL\, 60417\, United States
END:VEVENT
END:VCALENDAR